BEGIN:VCALENDAR
VERSION:2.0
PRODID:-//Walls of Clay, a Paint Your Own Pottery Studio and More - ECPv5.3.0//NONSGML v1.0//EN
CALSCALE:GREGORIAN
METHOD:PUBLISH
X-WR-CALNAME:Walls of Clay, a Paint Your Own Pottery Studio and More
X-ORIGINAL-URL:https://old.wallsofclaymckinney.com
X-WR-CALDESC:Events for Walls of Clay, a Paint Your Own Pottery Studio and More
BEGIN:VTIMEZONE
TZID:America/Chicago
BEGIN:DAYLIGHT
TZOFFSETFROM:-0600
TZOFFSETTO:-0500
TZNAME:CDT
DTSTART:20190310T080000
END:DAYLIGHT
BEGIN:STANDARD
TZOFFSETFROM:-0500
TZOFFSETTO:-0600
TZNAME:CST
DTSTART:20191103T070000
END:STANDARD
END:VTIMEZONE
BEGIN:VEVENT
DTSTART;TZID=America/Chicago:20191129T110000
DTEND;TZID=America/Chicago:20191129T180000
DTSTAMP:20260422T203844
CREATED:20190814T225849Z
LAST-MODIFIED:20190814T225849Z
UID:8216-1575025200-1575050400@old.wallsofclaymckinney.com
SUMMARY:NOTE: Special hours due to the festival; OPEN 11 – 6 today! Walk-In’s welcome!
DESCRIPTION:
URL:https://old.wallsofclaymckinney.com/event/note-special-hours-due-to-the-festival-open-11-6-today-walk-ins-welcome/
LOCATION:McKinney Coffee Company\, 1910 N Stonebridge Dr\, McKinney\, TX\, 75071\, United States
GEO:33.198395;-96.6159976
X-APPLE-STRUCTURED-LOCATION;VALUE=URI;X-ADDRESS=McKinney Coffee Company 1910 N Stonebridge Dr McKinney TX 75071 United States;X-APPLE-RADIUS=500;X-TITLE=1910 N Stonebridge Dr:geo:-96.6159976,33.198395
END:VEVENT
END:VCALENDAR