BEGIN:VCALENDAR
VERSION:2.0
PRODID:-//Walls of Clay, a Paint Your Own Pottery Studio and More - ECPv5.3.0//NONSGML v1.0//EN
CALSCALE:GREGORIAN
METHOD:PUBLISH
X-WR-CALNAME:Walls of Clay, a Paint Your Own Pottery Studio and More
X-ORIGINAL-URL:https://old.wallsofclaymckinney.com
X-WR-CALDESC:Events for Walls of Clay, a Paint Your Own Pottery Studio and More
BEGIN:VTIMEZONE
TZID:America/Chicago
BEGIN:DAYLIGHT
TZOFFSETFROM:-0600
TZOFFSETTO:-0500
TZNAME:CDT
DTSTART:20180311T080000
END:DAYLIGHT
BEGIN:STANDARD
TZOFFSETFROM:-0500
TZOFFSETTO:-0600
TZNAME:CST
DTSTART:20181104T070000
END:STANDARD
END:VTIMEZONE
BEGIN:VEVENT
DTSTART;TZID=America/Chicago:20180726T091500
DTEND;TZID=America/Chicago:20180726T100000
DTSTAMP:20260425T232816
CREATED:20180314T190925Z
LAST-MODIFIED:20180314T190925Z
UID:1845-1532596500-1532599200@old.wallsofclaymckinney.com
SUMMARY:07.26.2018 Primrose Field Trip 9:15 – 10:00 (before studio hours) Deposit Only $100
DESCRIPTION:Thank you for considering Walls of Clay\, we are thrilled to host a field trip for your summer program.   Walls of Clay has been in downtown McKinney for 17+ years and have worked with hundreds of groups over the years.  We are not a franchise\, but rather family owned business and appreciate your business – we are in business to create smiles and provide a quality creative experience for all ages. \nPROJECT: \nPottery: Mug 12oz ~ $10 per painter \nA great blank “canvas” to paint freestyle or you can opt for an instructive led design such as handprints & finger painting (super fun) or theme inspired such as our donut mugs – choose your “flavor”.  Mugs can be used for beverages\, planter or pencil/pen holder. All pieces are food safe after they are kiln-fired – so fun AND functional.  Mugs will be ready for pickup in 10 – 14 days. \nWhat is required to reserve a date and time? \nA non-refundable deposit per date is required\, we cannot hold a date without a deposit.  PLEASE NOTE:  All deposits WILL BE APPLIED TOWARDS YOUR FINAL BALANCE\, THE DAY OF THE EVENT.  Deposits are non-refundable.  However\, if you are unable to attend the date reserved and notify us at least 72 hours in advance\, we will gladly work with you to reschedule one time with no penalty.  Deposits can only be transferred to like events\, not for open studio credit.  No shows will not be refunded or credited. \nHow much is the non-refundable deposit per date scheduled (deposits will be applied towards the final balance)? \n$  50; groups up to 12 \n$150; groups 13 – 50 \n$200; groups 50 – 75 \n$250; groups 76 – 150 \nWhen and how do I pay the balance? \nThe balance is due at the end of your event when we tally up the total number of kids in attendance.  We accept cash and all major credit cards.  Checks are NOT accepted for final payment. \nDue to the nature of kiln-fired arts\, slight imperfections can occur. And on rare occasions\, kiln fired pieces can crack\, shatter or do the unexpected during the firing process. While we take every precaution to ensure that this does not happen\, there are some factors that are beyond our control. If a piece cracks or shatters\, a credit will be issued along with a ginormous apology because we hate to see bad things happen to your creations. \n 
URL:https://old.wallsofclaymckinney.com/event/07-26-2018-primrose-field-trip-915-1000-before-studio-hours-deposit-only-100/
LOCATION:McKinney Coffee Company\, 1910 N Stonebridge Dr\, McKinney\, TX\, 75071\, United States
CATEGORIES:Field Trip
GEO:33.198395;-96.6159976
X-APPLE-STRUCTURED-LOCATION;VALUE=URI;X-ADDRESS=McKinney Coffee Company 1910 N Stonebridge Dr McKinney TX 75071 United States;X-APPLE-RADIUS=500;X-TITLE=1910 N Stonebridge Dr:geo:-96.6159976,33.198395
END:VEVENT
BEGIN:VEVENT
DTSTART;TZID=America/Chicago:20180726T103000
DTEND;TZID=America/Chicago:20180726T120000
DTSTAMP:20260425T232816
CREATED:20180309T185254Z
LAST-MODIFIED:20180314T174926Z
UID:1786-1532601000-1532606400@old.wallsofclaymckinney.com
SUMMARY:07.26.2018 Kids Create Summer Fun! 10:30 - 12:00
DESCRIPTION:Mermaid Life or Beach Life – you choose!  Kiddos will have fun staining\, sanding and painting with a vinyl sticky stencil to recreate one of these designs on a framed wood panel.  Color choice is up the kids and wood sign will be ready to hang the same day. \nOur summer workshops are packed with fun tips\, tricks and techniques for painting pottery\, canvas and/or wood painting. This program is designed for ages 6 & up. Projects will be scaled for age appropriateness. \nKids Create! is a drop off event that lasts 90 minutes\, the fee is $25 + tax and payment in full is due at the time of reservation. Please be sure to read our Terms & Conditions regarding your payment and our cancellation policies. Your payment is non-refundable. \nTERMS & CONDITIONS \nWalls of Clay has been in downtown McKinney for 17+ years. Our practices\, policies\, and procedures are fair. Our number one goal is to provide an awesome experience for our guest(s) and our policies allow us to do just that. \nYour purchase (deposit in applicable cases) is non-refundable. If you are unable to attend for any reason; such as schedule conflict\, emergency\, illness or weather-related\, please notify us by phone at 972.547.4472 or email (info@wallsofclaymckinney.com). You may call or email anytime and be sure to leave a message if it is before/after studio hours. If we receive advanced notice\, your payment will be held on account and applied towards another like event in the future. \nCredits do not expire\, NO shows\, however\, will not receive a refund or credit\, your payment will be forfeited in the event you do not notify us. \nDeposits\, payment\, and credits cannot be applied to other services\, events or merchandise. No shows will not receive a refund or credit. \nThe remaining balance\, if there is one\, is due at the event. We accept cash along with all major credit cards. Checks are NOT accepted for final payment. \nDue to the nature of kiln-fired arts\, slight imperfections can occur. And on rare occasions\, kiln fired pieces can crack\, shatter or do the unexpected during the firing process. While we take every precaution to ensure that this does not happen\, there are some factors that are beyond our control. If a piece cracks or shatters\, a credit will be issued along with a ginormous apology because we hate to see bad things happen to your creations. \nGENERAL RELEASE: Pictures and/or video may be taken during our workshops to use in print and online marketing/advertising. \nAUTHORIZATION FOR EMERGENCY MEDICAL ATTENTION: By accepting the Terms & Conditions\, I grant my authorization and consent for Walls of Clay and its staff to administer general first aid treatment for any minor injuries or illnesses experienced by the guest/customer/minor. If the injury or illness is life threatening or in need of emergency treatment\, I authorize Walls of Clay to summon any and all professional emergency personnel to attend\, transport\, and treat the guest/customer/minor and to issue consent for any X-ray\, anesthetic\, blood transfusion\, medication\, or other medical diagnosis\, treatment\, or hospital care deemed advisable by\, and to be rendered under the general supervision of\, any licensed physician\, surgeon\, dentist\, hospital\, or other medical professional or institution duly licensed to practice in the state in which such treatment is to occur. I agree to assume financial responsibility for all expenses of such care. \nLIABILITY WAIVER: I hereby release\, hold harmless\, defend and indemnify Walls of Clay LLC and its employees\, agents\, officers and directors from any and all damages\, injuries\, claims and causes of action which may accrue to or be asserted by me or any minor child of mine arising directly or indirectly out of my minor child’s participation in a workshop.
URL:https://old.wallsofclaymckinney.com/event/07-26-2018-kids-create-summer-fun-1030-1200/
LOCATION:McKinney Coffee Company\, 1910 N Stonebridge Dr\, McKinney\, TX\, 75071\, United States
CATEGORIES:Kids Create
ATTACH;FMTTYPE=image/jpeg:https://old.wallsofclaymckinney.com/wp-content/uploads/2018/03/07262018-e1520720436785.jpg
GEO:33.198395;-96.6159976
X-APPLE-STRUCTURED-LOCATION;VALUE=URI;X-ADDRESS=McKinney Coffee Company 1910 N Stonebridge Dr McKinney TX 75071 United States;X-APPLE-RADIUS=500;X-TITLE=1910 N Stonebridge Dr:geo:-96.6159976,33.198395
END:VEVENT
END:VCALENDAR