BEGIN:VCALENDAR
VERSION:2.0
PRODID:-//Walls of Clay, a Paint Your Own Pottery Studio and More - ECPv5.3.0//NONSGML v1.0//EN
CALSCALE:GREGORIAN
METHOD:PUBLISH
X-WR-CALNAME:Walls of Clay, a Paint Your Own Pottery Studio and More
X-ORIGINAL-URL:https://old.wallsofclaymckinney.com
X-WR-CALDESC:Events for Walls of Clay, a Paint Your Own Pottery Studio and More
BEGIN:VTIMEZONE
TZID:America/Chicago
BEGIN:DAYLIGHT
TZOFFSETFROM:-0600
TZOFFSETTO:-0500
TZNAME:CDT
DTSTART:20200308T080000
END:DAYLIGHT
BEGIN:STANDARD
TZOFFSETFROM:-0500
TZOFFSETTO:-0600
TZNAME:CST
DTSTART:20201101T070000
END:STANDARD
END:VTIMEZONE
BEGIN:VEVENT
DTSTART;TZID=America/Chicago:20200819T120000
DTEND;TZID=America/Chicago:20200819T180000
DTSTAMP:20260424T104817
CREATED:20200819T163538Z
LAST-MODIFIED:20220111T163004Z
UID:24141-1597838400-1597860000@old.wallsofclaymckinney.com
SUMMARY:Walk In or Reserve | Studio is open 10:00 - 6:00!
DESCRIPTION:
URL:https://old.wallsofclaymckinney.com/event/walk-in-or-reserve-studio-is-open-1000-600/2020-08-19/
LOCATION:211 N Kentucky St\, McKinney\, TX\, 75069
END:VEVENT
END:VCALENDAR