BEGIN:VCALENDAR
VERSION:2.0
PRODID:-//Walls of Clay, a Paint Your Own Pottery Studio and More - ECPv5.3.0//NONSGML v1.0//EN
CALSCALE:GREGORIAN
METHOD:PUBLISH
X-WR-CALNAME:Walls of Clay, a Paint Your Own Pottery Studio and More
X-ORIGINAL-URL:https://old.wallsofclaymckinney.com
X-WR-CALDESC:Events for Walls of Clay, a Paint Your Own Pottery Studio and More
BEGIN:VTIMEZONE
TZID:America/Chicago
BEGIN:DAYLIGHT
TZOFFSETFROM:-0600
TZOFFSETTO:-0500
TZNAME:CDT
DTSTART:20170312T080000
END:DAYLIGHT
BEGIN:STANDARD
TZOFFSETFROM:-0500
TZOFFSETTO:-0600
TZNAME:CST
DTSTART:20171105T070000
END:STANDARD
END:VTIMEZONE
BEGIN:VEVENT
DTSTART;TZID=America/Chicago:20171212T113000
DTEND;TZID=America/Chicago:20171212T123000
DTSTAMP:20260424T034129
CREATED:20171116T205016Z
LAST-MODIFIED:20171116T205045Z
UID:1280-1513078200-1513081800@old.wallsofclaymckinney.com
SUMMARY:Lunch Bunch MeetUp - Wine Glass Painting! 12.12.2017 11:30 - 12:30; $20 + tax
DESCRIPTION:  \nGlass Painting!\n$20 + tax \nTuesday\, December 12th.  Please register by Sunday\, December 10th. \nStep 1: Select Your Glass \nDo you prefer a red wine glass\, white wine glass\, stemless or how about a pilsner glass instead? We’ve got a variety of glasses to choose from\, so pick your favorite. \nStep 2: Paint Your Glass \nThis is where the fun begins and it’s contagious too! What’s that you say? You have no idea where to start? Use one of our samples\, Pinterest or Google for some creative glass painting inspiration. We have 24+ colors\, including bright colors and shimmering metallics too! There’s no whining when it comes to painting wine glasses – just have fun and give it a try! \nStep 3: Take Home the Same Day \nThis is perhaps the coolest part of the whole process! You can take home the same day\, we’ll send you with take-home instructions. You’ll need to let your glass air dry for 48 hours and then bake in your own oven to cure. \nPlease be sure to read our Terms & Conditions regarding your payment and our cancellation policies. Your payment is non-refundable. \nTERMS & CONDITIONS \nWalls of Clay has been in downtown McKinney for 16+ years. Our practices\, policies\, and procedures are fair. Our number one goal is to provide an awesome experience for our guest(s) and our policies allow us to do just that. \nYour purchase (deposit in applicable cases) is non-refundable. If you are unable to attend for any reason; such as schedule conflict\, emergency\, illness or weather-related\, please notify us by phone at 972.547.4472 or email (info@wallsofclaymckinney.com). You may call or email anytime and be sure to leave a message if it is before/after studio hours. If we receive advanced notice\, your payment will be held on account and applied towards another like event in the future. \nCredits do not expire\, NO shows\, however\, will not receive a refund or credit\, your payment will be forfeited in the event you do not notify us. \nDeposits\, payments and credits cannot be applied to other services\, events or merchandise. No shows will not receive a refund or credit. \nThe remaining balance\, if there is one\, is due at the event. We accept cash along with all major credit cards. Checks are NOT accepted for final payment. \n  \nALCOHOL POLICY (if applicable): I agree that I am 21 years of age or older and will consume my alcoholic beverages responsibly. I release and waive any and all claims or action that may arise against Walls of Clay LLC\, its affiliates\, successors or assigns as well as the owner and employees/contractors as a result of anything which occurs before\, during or after my session including to but not limited to injury\, loss\, theft or damage to any person or property. \nGENERAL RELEASE: Pictures and/or video may be taken during our workshops to use in print and online marketing/advertising. \nAUTHORIZATION FOR EMERGENCY MEDICAL ATTENTION: By accepting the Terms & Conditions\, I grant my authorization and consent for Walls of Clay and its staff to administer general first aid treatment for any minor injuries or illnesses experienced by the guest/customer/minor. If the injury or illness is life threatening or in need of emergency treatment\, I authorize Walls of Clay to summon any and all professional emergency personnel to attend\, transport\, and treat the guest/customer/minor and to issue consent for any X-ray\, anesthetic\, blood transfusion\, medication\, or other medical diagnosis\, treatment\, or hospital care deemed advisable by\, and to be rendered under the general supervision of\, any licensed physician\, surgeon\, dentist\, hospital\, or other medical professional or institution duly licensed to practice in the state in which such treatment is to occur. I agree to assume financial responsibility for all expenses of such care. \nLIABILITY WAIVER: I hereby release\, hold harmless\, defend and indemnify Walls of Clay LLC and its employees\, agents\, officers and directors from any and all damages\, injuries\, claims and causes of action which may accrue to or be asserted by me or any minor child of mine arising directly or indirectly out of my minor child’s participation in a workshop.
URL:https://old.wallsofclaymckinney.com/event/lunch-bunch-meetup-wine-glass-painting-12-12-2017-1130-1230-20-tax/
LOCATION:McKinney Coffee Company\, 1910 N Stonebridge Dr\, McKinney\, TX\, 75071\, United States
CATEGORIES:Private Event
ATTACH;FMTTYPE=image/jpeg:https://old.wallsofclaymckinney.com/wp-content/uploads/2017/03/Wine-Glass-Painting-a.jpg
GEO:33.198395;-96.6159976
X-APPLE-STRUCTURED-LOCATION;VALUE=URI;X-ADDRESS=McKinney Coffee Company 1910 N Stonebridge Dr McKinney TX 75071 United States;X-APPLE-RADIUS=500;X-TITLE=1910 N Stonebridge Dr:geo:-96.6159976,33.198395
END:VEVENT
END:VCALENDAR