BEGIN:VCALENDAR
VERSION:2.0
PRODID:-//Walls of Clay, a Paint Your Own Pottery Studio and More - ECPv5.3.0//NONSGML v1.0//EN
CALSCALE:GREGORIAN
METHOD:PUBLISH
X-WR-CALNAME:Walls of Clay, a Paint Your Own Pottery Studio and More
X-ORIGINAL-URL:https://old.wallsofclaymckinney.com
X-WR-CALDESC:Events for Walls of Clay, a Paint Your Own Pottery Studio and More
BEGIN:VTIMEZONE
TZID:America/Chicago
BEGIN:DAYLIGHT
TZOFFSETFROM:-0600
TZOFFSETTO:-0500
TZNAME:CDT
DTSTART:20210314T080000
END:DAYLIGHT
BEGIN:STANDARD
TZOFFSETFROM:-0500
TZOFFSETTO:-0600
TZNAME:CST
DTSTART:20211107T070000
END:STANDARD
END:VTIMEZONE
BEGIN:VEVENT
DTSTART;TZID=America/Chicago:20210228T160000
DTEND;TZID=America/Chicago:20210228T180000
DTSTAMP:20260421T155234
CREATED:20210125T231528Z
LAST-MODIFIED:20210218T193055Z
UID:25306-1614528000-1614535200@old.wallsofclaymckinney.com
SUMMARY:NCL Meet Up | In Person & Virtual Options Available; 02.28.2021 4:00 - 6:00
DESCRIPTION:Please RSVP by Sunday\, February 14th.  You will have the option of RSVP’ing for either in-studio painting or virtual painting. \n\nIf you select the in-studio option\, you will have the option of selecting colors during the event\, no need to pre-select.\nIf you select the virtual option; please select colors so that we can prepare Pottery To Go packages for you.\n\n \n 
URL:https://old.wallsofclaymckinney.com/event/ncl-meet-up-in-person-02-28-2021-400-600/
LOCATION:211 N Kentucky St\, McKinney\, TX\, 75069
CATEGORIES:Private Event
ATTACH;FMTTYPE=image/png:https://old.wallsofclaymckinney.com/wp-content/uploads/2021/01/TEEN-EVENT.png
END:VEVENT
END:VCALENDAR